BEGIN:VCALENDAR
VERSION:2.0
PRODID:-//clintoncommunitycouncil.org - ECPv6.15.20//NONSGML v1.0//EN
CALSCALE:GREGORIAN
METHOD:PUBLISH
X-WR-CALNAME:clintoncommunitycouncil.org
X-ORIGINAL-URL:https://clintoncommunitycouncil.org
X-WR-CALDESC:Events for clintoncommunitycouncil.org
REFRESH-INTERVAL;VALUE=DURATION:PT1H
X-Robots-Tag:noindex
X-PUBLISHED-TTL:PT1H
BEGIN:VTIMEZONE
TZID:America/Los_Angeles
BEGIN:DAYLIGHT
TZOFFSETFROM:-0800
TZOFFSETTO:-0700
TZNAME:PDT
DTSTART:20140309T100000
END:DAYLIGHT
BEGIN:STANDARD
TZOFFSETFROM:-0700
TZOFFSETTO:-0800
TZNAME:PST
DTSTART:20141102T090000
END:STANDARD
BEGIN:DAYLIGHT
TZOFFSETFROM:-0800
TZOFFSETTO:-0700
TZNAME:PDT
DTSTART:20150308T100000
END:DAYLIGHT
BEGIN:STANDARD
TZOFFSETFROM:-0700
TZOFFSETTO:-0800
TZNAME:PST
DTSTART:20151101T090000
END:STANDARD
BEGIN:DAYLIGHT
TZOFFSETFROM:-0800
TZOFFSETTO:-0700
TZNAME:PDT
DTSTART:20160313T100000
END:DAYLIGHT
BEGIN:STANDARD
TZOFFSETFROM:-0700
TZOFFSETTO:-0800
TZNAME:PST
DTSTART:20161106T090000
END:STANDARD
END:VTIMEZONE
BEGIN:VEVENT
DTSTART;TZID=America/Los_Angeles:20150824T180000
DTEND;TZID=America/Los_Angeles:20150824T193000
DTSTAMP:20260419T223443
CREATED:20150727T204220Z
LAST-MODIFIED:20150727T204220Z
UID:527-1440439200-1440444600@clintoncommunitycouncil.org
SUMMARY:Community Council Meeting
DESCRIPTION:Monthly Council Meeting
URL:https://clintoncommunitycouncil.org/event/community-council-meeting-2/
LOCATION:Clinton Community Hall\, 98236
CATEGORIES:Council Meeting
END:VEVENT
END:VCALENDAR